BEGIN:VCALENDAR
VERSION:2.0
PRODID:-//Oficial de Justiça - ECPv4.6.16//NONSGML v1.0//EN
CALSCALE:GREGORIAN
METHOD:PUBLISH
X-WR-CALNAME:Oficial de Justiça
X-ORIGINAL-URL:https://www.oficialdejustica.com.br
X-WR-CALDESC:Eventos para Oficial de Justiça
BEGIN:VEVENT
DTSTART;VALUE=DATE:20190603
DTEND;VALUE=DATE:20190629
DTSTAMP:20260421T084614
CREATED:20190420T202147Z
LAST-MODIFIED:20190831T141229Z
UID:762-1559520000-1561766399@www.oficialdejustica.com.br
SUMMARY:PENHORA E AVALIAÇÃO PATRIMONIAL PARA OFICIAIS DE JUSTIÇA
DESCRIPTION:Cuiabá – Curso na modalidade EaD realizado pela Escola Judicial do  TRT da 23ª Região. \n
URL:https://www.oficialdejustica.com.br/evento/penhora-e-avaliacao-patrimonial-para-oficiais-de-justica-3/
CATEGORIES:Agenda
ATTACH;FMTTYPE=image/jpeg:https://www.oficialdejustica.com.br/wp-content/uploads/2019/04/Imagem-trt23-1.jpg
END:VEVENT
END:VCALENDAR