BEGIN:VCALENDAR
VERSION:2.0
PRODID:-//Oficial de Justiça - ECPv4.6.16//NONSGML v1.0//EN
CALSCALE:GREGORIAN
METHOD:PUBLISH
X-WR-CALNAME:Oficial de Justiça
X-ORIGINAL-URL:https://www.oficialdejustica.com.br
X-WR-CALDESC:Eventos para Oficial de Justiça
BEGIN:VEVENT
DTSTART;VALUE=DATE:20190806
DTEND;VALUE=DATE:20190904
DTSTAMP:20260423T093723
CREATED:20190831T140838Z
LAST-MODIFIED:20190831T144017Z
UID:774-1565049600-1567555199@www.oficialdejustica.com.br
SUMMARY:PENHORA E AVALIAÇÃO PATRIMONIAL PARA OFICIAIS DE JUSTIÇA
DESCRIPTION:Belo Horizonte – Curso na modalidade EaD realizado pelo Seção de Formação e Aperfeiçoamento de Servidores da Justiça Federal de Minas Gerais. \n
URL:https://www.oficialdejustica.com.br/evento/penhora-e-avaliacao-patrimonial-para-oficiais-de-justica-5/
ATTACH;FMTTYPE=image/png:https://www.oficialdejustica.com.br/wp-content/uploads/2019/08/trf-1a-regiao-logo.png
END:VEVENT
END:VCALENDAR